BEGIN:VCALENDAR
VERSION:2.0
PRODID:spatie/icalendar-generator
DESCRIPTION:ナースが旭川で占う　手相とタロットの「占〜
 せん〜」のイベント
X-WR-CALDESC:ナースが旭川で占う　手相とタロットの「占
 〜せん〜」のイベント
REFRESH-INTERVAL;VALUE=DURATION:PT1440M
X-PUBLISHED-TTL:PT1440M
BEGIN:VTIMEZONE
TZID:Asia/Tokyo
BEGIN:STANDARD
DTSTART:20220914T100000Z
TZOFFSETFROM:+0900
TZOFFSETTO:+0900
END:STANDARD
END:VTIMEZONE
BEGIN:VTIMEZONE
TZID:UTC
BEGIN:STANDARD
DTSTART:20250724T095511Z
TZOFFSETFROM:+0000
TZOFFSETTO:+0000
END:STANDARD
END:VTIMEZONE
BEGIN:VEVENT
UID:309-293
DTSTAMP:20260420T095511Z
SUMMARY:「おむすびの　ぐっ」 in やわらぎ斎場春光
LOCATION:やわらぎ斎場春光 北海道旭川市春光１条７丁目
 ２−１  旭川市 北海道 〒070-0871
ORGANIZER;CN=たま:MAILTO:s-t@umin.net
DTSTART;TZID=Asia/Tokyo:20230611T100000
DTEND;TZID=Asia/Tokyo:20230611T150000
X-ALT-DESC;FMTTYPE=TEXT/HTML:やわらぎ斎場春光のイベントです
 。 すぐ占うために、電話予約をお薦めします。現在お
 客様の半数以上は予約して来店さ&amp;hellip\;
CATEGORIES:イベント
URL;VALUE=URI:https://tama.blue/?mc-events=%e3%80%8c%e3%81%8a%e3%82%80%e3%8
 1%99%e3%81%b3%e3%81%ae%e3%80%80%e3%81%90%e3%81%a3%e3%80%8d-in-%e3%82%84%e3
 %82%8f%e3%82%89%e3%81%8e%e6%96%8e%e5%a0%b4%e6%98%a5%e5%85%89
METHOD:PUBLISH
END:VEVENT
END:VCALENDAR