BEGIN:VCALENDAR
VERSION:2.0
PRODID:spatie/icalendar-generator
DESCRIPTION:ナースが旭川で占う　手相とタロットの「占〜
 せん〜」のイベント
X-WR-CALDESC:ナースが旭川で占う　手相とタロットの「占
 〜せん〜」のイベント
REFRESH-INTERVAL;VALUE=DURATION:PT1440M
X-PUBLISHED-TTL:PT1440M
BEGIN:VTIMEZONE
TZID:Asia/Tokyo
BEGIN:STANDARD
DTSTART:20231111T093000Z
TZOFFSETFROM:+0900
TZOFFSETTO:+0900
END:STANDARD
END:VTIMEZONE
BEGIN:VTIMEZONE
TZID:UTC
BEGIN:STANDARD
DTSTART:20250725T084601Z
TZOFFSETFROM:+0000
TZOFFSETTO:+0000
END:STANDARD
END:VTIMEZONE
BEGIN:VEVENT
UID:378-358
DTSTAMP:20260421T084601Z
SUMMARY:あいプランサマーフェスタ　at ブルーミントンヒ
 ル（旭川市高砂台）
LOCATION:ブルーミントンヒル 高砂台１丁目２−１  旭川市
  北海道 070-8061
ORGANIZER;CN=たま:MAILTO:s-t@umin.net
DTSTART;TZID=Asia/Tokyo:20240807T093000
DTEND;TZID=Asia/Tokyo:20240807T170000
X-ALT-DESC;FMTTYPE=TEXT/HTML:ご来店お待ちしております すぐ占
 うために、電話予約をお薦めします。現在お客様の半
 数以上は予約して来店されていま&amp;hellip\;
CATEGORIES:イベント
URL;VALUE=URI:https://tama.blue/?mc-events=%e3%81%82%e3%81%84%e3%83%97%e3%8
 3%a9%e3%83%b3%e3%82%b5%e3%83%9e%e3%83%bc%e3%83%95%e3%82%a7%e3%82%b9%e3%82%
 bf%e3%80%80at-%e3%83%96%e3%83%ab%e3%83%bc%e3%83%9f%e3%83%b3%e3%83%88%e3%83
 %b3%e3%83%92-2
METHOD:PUBLISH
END:VEVENT
END:VCALENDAR