BEGIN:VCALENDAR
VERSION:2.0
PRODID:spatie/icalendar-generator
DESCRIPTION:ナースが旭川で占う　手相とタロットの「占〜
 せん〜」のイベント
X-WR-CALDESC:ナースが旭川で占う　手相とタロットの「占
 〜せん〜」のイベント
REFRESH-INTERVAL;VALUE=DURATION:PT1440M
X-PUBLISHED-TTL:PT1440M
BEGIN:VTIMEZONE
TZID:Asia/Tokyo
BEGIN:STANDARD
DTSTART:20240130T100000Z
TZOFFSETFROM:+0900
TZOFFSETTO:+0900
END:STANDARD
END:VTIMEZONE
BEGIN:VTIMEZONE
TZID:UTC
BEGIN:STANDARD
DTSTART:20250725T101351Z
TZOFFSETFROM:+0000
TZOFFSETTO:+0000
END:STANDARD
END:VTIMEZONE
BEGIN:VEVENT
UID:394-374
DTSTAMP:20260421T101351Z
SUMMARY:おぴった　福祉ネイル
LOCATION:おぴった　旭川市 障害者福祉センター  宮前１条
 ３丁目３−７  旭川市 北海道 078-8391
ORGANIZER;CN=たま:MAILTO:s-t@umin.net
DTSTART;TZID=Asia/Tokyo:20241026T100000
DTEND;TZID=Asia/Tokyo:20241026T160000
X-ALT-DESC;FMTTYPE=TEXT/HTML:福祉ネイルに参加します
CATEGORIES:イベント
URL;VALUE=URI:https://tama.blue/?mc-events=%e3%81%8a%e3%81%b4%e3%81%a3%e3%8
 1%9f%e3%80%80%e7%a6%8f%e7%a5%89%e3%83%8d%e3%82%a4%e3%83%ab
METHOD:PUBLISH
END:VEVENT
END:VCALENDAR