BEGIN:VCALENDAR
VERSION:2.0
PRODID:spatie/icalendar-generator
DESCRIPTION:ナースが旭川で占う　手相とタロットの「占〜
 せん〜」のイベント
X-WR-CALDESC:ナースが旭川で占う　手相とタロットの「占
 〜せん〜」のイベント
REFRESH-INTERVAL;VALUE=DURATION:PT1440M
X-PUBLISHED-TTL:PT1440M
BEGIN:VTIMEZONE
TZID:Asia/Tokyo
BEGIN:STANDARD
DTSTART:20221109T100000Z
TZOFFSETFROM:+0900
TZOFFSETTO:+0900
END:STANDARD
END:VTIMEZONE
BEGIN:VTIMEZONE
TZID:UTC
BEGIN:STANDARD
DTSTART:20250725T095447Z
TZOFFSETFROM:+0000
TZOFFSETTO:+0000
END:STANDARD
END:VTIMEZONE
BEGIN:VEVENT
UID:321-305
DTSTAMP:20260421T095447Z
SUMMARY:お食事＆居酒屋　としちゃん 　イベント
LOCATION:お食事＆居酒屋　としちゃん  永山7条13丁目2-4  
 旭川市 北海道
ORGANIZER;CN=たま:MAILTO:s-t@umin.net
DTSTART;TZID=Asia/Tokyo:20230806T100000
DTEND;TZID=Asia/Tokyo:20230806T150000
X-ALT-DESC;FMTTYPE=TEXT/HTML:&amp;nbsp\; &amp;nbsp\; &amp;nbsp\; 和風レストラン
 　お食事＆居酒屋　としちゃん  でのイベントです &amp;n&amp;h
 ellip\;
CATEGORIES:イベント
URL;VALUE=URI:https://tama.blue/?mc-events=%e3%81%8a%e9%a3%9f%e4%ba%8b%ef%b
 c%86%e5%b1%85%e9%85%92%e5%b1%8b%e3%80%80%e3%81%a8%e3%81%97%e3%81%a1%e3%82%
 83%e3%82%93-%e3%80%80%e3%82%a4%e3%83%99%e3%83%b3%e3%83%88
METHOD:PUBLISH
END:VEVENT
END:VCALENDAR