BEGIN:VCALENDAR
VERSION:2.0
PRODID:spatie/icalendar-generator
DESCRIPTION:ナースが旭川で占う　手相とタロットの「占〜
 せん〜」のイベント
X-WR-CALDESC:ナースが旭川で占う　手相とタロットの「占
 〜せん〜」のイベント
REFRESH-INTERVAL;VALUE=DURATION:PT1440M
X-PUBLISHED-TTL:PT1440M
BEGIN:VTIMEZONE
TZID:Asia/Tokyo
BEGIN:STANDARD
DTSTART:20250204T110000Z
TZOFFSETFROM:+0900
TZOFFSETTO:+0900
END:STANDARD
END:VTIMEZONE
BEGIN:VTIMEZONE
TZID:UTC
BEGIN:STANDARD
DTSTART:20250727T081750Z
TZOFFSETFROM:+0000
TZOFFSETTO:+0000
END:STANDARD
END:VTIMEZONE
BEGIN:VEVENT
UID:466-443
DTSTAMP:20260423T081750Z
SUMMARY:どなたでもご来場ください　住友生命祭り
LOCATION:住友生命保険相互会社　旭川支社 3条9丁目 TKフロ
 ンティアビル 旭川市 北海道 070-0033
ORGANIZER;CN=たま:MAILTO:s-t@umin.net
DTSTART;TZID=Asia/Tokyo:20251101T110000
DTEND;TZID=Asia/Tokyo:20251101T150000
X-ALT-DESC;FMTTYPE=TEXT/HTML:どなたでも来場・占い可能な 住友
 生命　旭川支社　のお祭りです ブースの一つとして出
 店します 住友生命保険相互会&amp;hellip\;
CATEGORIES:イベント
URL;VALUE=URI:https://tama.blue/?mc-events=%e3%81%a9%e3%81%aa%e3%81%9f%e3%8
 1%a7%e3%82%82%e3%81%94%e6%9d%a5%e5%a0%b4%e3%81%8f%e3%81%a0%e3%81%95%e3%81%
 84%e3%80%80%e4%bd%8f%e5%8f%8b%e7%94%9f%e5%91%bd%e7%a5%ad%e3%82%8a
METHOD:PUBLISH
END:VEVENT
END:VCALENDAR