BEGIN:VCALENDAR
VERSION:2.0
PRODID:spatie/icalendar-generator
DESCRIPTION:ナースが旭川で占う　手相とタロットの「占〜
 せん〜」のイベント
X-WR-CALDESC:ナースが旭川で占う　手相とタロットの「占
 〜せん〜」のイベント
REFRESH-INTERVAL;VALUE=DURATION:PT1440M
X-PUBLISHED-TTL:PT1440M
BEGIN:VTIMEZONE
TZID:Asia/Tokyo
BEGIN:STANDARD
DTSTART:20240206T100000Z
TZOFFSETFROM:+0900
TZOFFSETTO:+0900
END:STANDARD
END:VTIMEZONE
BEGIN:VTIMEZONE
TZID:UTC
BEGIN:STANDARD
DTSTART:20250724T095420Z
TZOFFSETFROM:+0000
TZOFFSETTO:+0000
END:STANDARD
END:VTIMEZONE
BEGIN:VEVENT
UID:402-382
DTSTAMP:20260420T095420Z
SUMMARY:わくわくマルシェミ　at やわらぎ斎場　旭川市春
 光（東光ではありません）
LOCATION:やわらぎ斎場春光 北海道旭川市春光１条７丁目
 ２−１  旭川市 北海道 〒070-0871
ORGANIZER;CN=たま:MAILTO:s-t@umin.net
DTSTART;TZID=Asia/Tokyo:20241102T100000
DTEND;TZID=Asia/Tokyo:20241102T160000
X-ALT-DESC;FMTTYPE=TEXT/HTML:場所は春光です。東光としていま
 しが誤りです。お間違いのないようお願いします イベ
 ント形式での出店です。どなたで&amp;hellip\;
CATEGORIES:イベント
URL;VALUE=URI:https://tama.blue/?mc-events=%e3%82%8f%e3%81%8f%e3%82%8f%e3%8
 1%8f%e3%83%9e%e3%83%ab%e3%82%b7%e3%82%a7%e3%83%9f%e3%80%80at-%e3%82%84%e3%
 82%8f%e3%82%89%e3%81%8e%e6%96%8e%e5%a0%b4%e3%80%80%e6%97%ad%e5%b7%9d%e5%b8
 %82%e6%98%a5
METHOD:PUBLISH
END:VEVENT
END:VCALENDAR