BEGIN:VCALENDAR
VERSION:2.0
PRODID:spatie/icalendar-generator
DESCRIPTION:ナースが旭川で占う　手相とタロットの「占〜
 せん〜」のイベント
X-WR-CALDESC:ナースが旭川で占う　手相とタロットの「占
 〜せん〜」のイベント
REFRESH-INTERVAL;VALUE=DURATION:PT1440M
X-PUBLISHED-TTL:PT1440M
BEGIN:VTIMEZONE
TZID:Asia/Tokyo
BEGIN:STANDARD
DTSTART:20250513T110000Z
TZOFFSETFROM:+0900
TZOFFSETTO:+0900
END:STANDARD
END:VTIMEZONE
BEGIN:VTIMEZONE
TZID:UTC
BEGIN:STANDARD
DTSTART:20250727T082057Z
TZOFFSETFROM:+0000
TZOFFSETTO:+0000
END:STANDARD
END:VTIMEZONE
BEGIN:VEVENT
UID:482-457
DTSTAMP:20260423T082057Z
SUMMARY:イオンモール旭川駅前　4階　イオンホール　イベ
 ント
LOCATION:イオンモール旭川駅前 宮下通７丁目２−５  旭川
 市 北海道 070-0030
ORGANIZER;CN=たま:MAILTO:s-t@umin.net
DTSTART;TZID=Asia/Tokyo:20260207T110000
DTEND;TZID=Asia/Tokyo:20260207T180000
X-ALT-DESC;FMTTYPE=TEXT/HTML:ついに駅前イオンで占いをするこ
 とになりました。 2026/02/07土曜日　駅前イオン４回　イ
 オンホール です&amp;hellip\;
CATEGORIES:イベント
URL;VALUE=URI:https://tama.blue/?mc-events=%e3%82%a4%e3%82%aa%e3%83%b3%e3%8
 3%a2%e3%83%bc%e3%83%ab%e6%97%ad%e5%b7%9d%e9%a7%85%e5%89%8d%e3%80%804%e9%9a
 %8e%e3%80%80%e3%82%a4%e3%82%aa%e3%83%b3%e3%83%9b%e3%83%bc%e3%83%ab%e3%80%8
 0%e3%82%a4%e3%83%99
METHOD:PUBLISH
END:VEVENT
END:VCALENDAR