BEGIN:VCALENDAR
VERSION:2.0
PRODID:spatie/icalendar-generator
DESCRIPTION:ナースが旭川で占う　手相とタロットの「占〜
 せん〜」のイベント
X-WR-CALDESC:ナースが旭川で占う　手相とタロットの「占
 〜せん〜」のイベント
REFRESH-INTERVAL;VALUE=DURATION:PT1440M
X-PUBLISHED-TTL:PT1440M
BEGIN:VTIMEZONE
TZID:Asia/Tokyo
BEGIN:STANDARD
DTSTART:20240514T110000Z
TZOFFSETFROM:+0900
TZOFFSETTO:+0900
END:STANDARD
END:VTIMEZONE
BEGIN:VTIMEZONE
TZID:UTC
BEGIN:STANDARD
DTSTART:20250724T095520Z
TZOFFSETFROM:+0000
TZOFFSETTO:+0000
END:STANDARD
END:VTIMEZONE
BEGIN:VEVENT
UID:415-395
DTSTAMP:20260420T095520Z
SUMMARY:ココナータ　北部住民センター
LOCATION:旭川市北部住民センター 春光5条4丁目1  旭川市 
 北海道 070-0875
ORGANIZER;CN=たま:MAILTO:s-t@umin.net
DTSTART;TZID=Asia/Tokyo:20250208T110000
DTEND;TZID=Asia/Tokyo:20250208T160000
X-ALT-DESC;FMTTYPE=TEXT/HTML:開催は　11:00 からです （当初10：
 ００としていました） お間違いないようお願いします 
 【日時】2025&amp;hellip\;
CATEGORIES:イベント
URL;VALUE=URI:https://tama.blue/?mc-events=%e3%82%b3%e3%82%b3%e3%83%8a%e3%8
 3%bc%e3%82%bf%e3%80%80%e5%8c%97%e9%83%a8%e4%bd%8f%e6%b0%91%e3%82%bb%e3%83%
 b3%e3%82%bf%e3%83%bc
METHOD:PUBLISH
END:VEVENT
END:VCALENDAR