BEGIN:VCALENDAR
VERSION:2.0
PRODID:spatie/icalendar-generator
DESCRIPTION:ナースが旭川で占う　手相とタロットの「占〜
 せん〜」のイベント
X-WR-CALDESC:ナースが旭川で占う　手相とタロットの「占
 〜せん〜」のイベント
REFRESH-INTERVAL;VALUE=DURATION:PT1440M
X-PUBLISHED-TTL:PT1440M
BEGIN:VTIMEZONE
TZID:Asia/Tokyo
BEGIN:STANDARD
DTSTART:20240814T100000Z
TZOFFSETFROM:+0900
TZOFFSETTO:+0900
END:STANDARD
END:VTIMEZONE
BEGIN:VTIMEZONE
TZID:UTC
BEGIN:STANDARD
DTSTART:20250725T100010Z
TZOFFSETFROM:+0000
TZOFFSETTO:+0000
END:STANDARD
END:VTIMEZONE
BEGIN:VEVENT
UID:436-415
DTSTAMP:20260421T100010Z
SUMMARY:ココナータ　永山住民センター
LOCATION:旭川市永山住民センター 永山7条４丁目4  旭川市 
 北海道 079-8417
ORGANIZER;CN=たま:MAILTO:s-t@umin.net
DTSTART;TZID=Asia/Tokyo:20250511T100000
DTEND;TZID=Asia/Tokyo:20250511T160000
X-ALT-DESC;FMTTYPE=TEXT/HTML:
CATEGORIES:イベント
URL;VALUE=URI:https://tama.blue/?mc-events=%e3%82%b3%e3%82%b3%e3%83%8a%e3%8
 3%bc%e3%82%bf%e3%80%80%e6%b0%b8%e5%b1%b1%e4%bd%8f%e6%b0%91%e3%82%bb%e3%83%
 b3%e3%82%bf%e3%83%bc
METHOD:PUBLISH
END:VEVENT
END:VCALENDAR