BEGIN:VCALENDAR
VERSION:2.0
PRODID:spatie/icalendar-generator
DESCRIPTION:ナースが旭川で占う　手相とタロットの「占〜
 せん〜」のイベント
X-WR-CALDESC:ナースが旭川で占う　手相とタロットの「占
 〜せん〜」のイベント
REFRESH-INTERVAL;VALUE=DURATION:PT1440M
X-PUBLISHED-TTL:PT1440M
BEGIN:VTIMEZONE
TZID:Asia/Tokyo
BEGIN:STANDARD
DTSTART:20190514T100000Z
TZOFFSETFROM:+0900
TZOFFSETTO:+0900
END:STANDARD
END:VTIMEZONE
BEGIN:VTIMEZONE
TZID:UTC
BEGIN:STANDARD
DTSTART:20250724T093739Z
TZOFFSETFROM:+0000
TZOFFSETTO:+0000
END:STANDARD
END:VTIMEZONE
BEGIN:VEVENT
UID:52-50
DTSTAMP:20260420T093739Z
SUMMARY:スズキアリーナ旭川 / U's STASTION 旭川永山
LOCATION:旭川スズキ販売㈱ スズキアリーナ旭川永山/U\\'s s
 tation旭川永山 永山２条２丁目４−１７  旭川市 北海道 
 079
ORGANIZER;CN=たま:MAILTO:s-t@umin.net
DTSTART;TZID=Asia/Tokyo:20200208T100000
DTEND;TZID=Asia/Tokyo:20200208T160000
X-ALT-DESC;FMTTYPE=TEXT/HTML:
CATEGORIES:イベント
URL;VALUE=URI:https://tama.blue/?mc-events=%e3%82%b9%e3%82%ba%e3%82%ad%e3%8
 2%a2%e3%83%aa%e3%83%bc%e3%83%8a%e6%97%ad%e5%b7%9d-us-stastion-%e6%97%ad%e5
 %b7%9d%e6%b0%b8%e5%b1%b1
METHOD:PUBLISH
END:VEVENT
END:VCALENDAR