BEGIN:VCALENDAR
VERSION:2.0
PRODID:spatie/icalendar-generator
DESCRIPTION:ナースが旭川で占う　手相とタロットの「占〜
 せん〜」のイベント
X-WR-CALDESC:ナースが旭川で占う　手相とタロットの「占
 〜せん〜」のイベント
REFRESH-INTERVAL;VALUE=DURATION:PT1440M
X-PUBLISHED-TTL:PT1440M
BEGIN:VTIMEZONE
TZID:Asia/Tokyo
BEGIN:STANDARD
DTSTART:20181106T100000Z
TZOFFSETFROM:+0900
TZOFFSETTO:+0900
END:STANDARD
END:VTIMEZONE
BEGIN:VTIMEZONE
TZID:UTC
BEGIN:STANDARD
DTSTART:20250723T160719Z
TZOFFSETFROM:+0000
TZOFFSETTO:+0000
END:STANDARD
END:VTIMEZONE
BEGIN:VEVENT
UID:15-10
DTSTAMP:20260419T160719Z
SUMMARY:スズキアリーナ神楽
LOCATION:スズキアリーナ神楽/ U\\'s station 神楽 神楽5条13丁
 目2番4号  旭川市 北海道 070-8005
ORGANIZER;CN=たま:MAILTO:s-t@umin.net
DTSTART;TZID=Asia/Tokyo:20190803T100000
DTEND;TZID=Asia/Tokyo:20190804T160000
X-ALT-DESC;FMTTYPE=TEXT/HTML:
CATEGORIES:イベント
URL;VALUE=URI:https://tama.blue/?mc-events=%e3%82%b9%e3%82%ba%e3%82%ad%e3%8
 2%a2%e3%83%aa%e3%83%bc%e3%83%8a%e7%a5%9e%e6%a5%bd
METHOD:PUBLISH
END:VEVENT
END:VCALENDAR