BEGIN:VCALENDAR
VERSION:2.0
PRODID:spatie/icalendar-generator
DESCRIPTION:ナースが旭川で占う　手相とタロットの「占〜
 せん〜」のイベント
X-WR-CALDESC:ナースが旭川で占う　手相とタロットの「占
 〜せん〜」のイベント
REFRESH-INTERVAL;VALUE=DURATION:PT1440M
X-PUBLISHED-TTL:PT1440M
BEGIN:VTIMEZONE
TZID:Asia/Tokyo
BEGIN:STANDARD
DTSTART:20200623T100000Z
TZOFFSETFROM:+0900
TZOFFSETTO:+0900
END:STANDARD
END:VTIMEZONE
BEGIN:VTIMEZONE
TZID:UTC
BEGIN:STANDARD
DTSTART:20250725T095505Z
TZOFFSETFROM:+0000
TZOFFSETTO:+0000
END:STANDARD
END:VTIMEZONE
BEGIN:VEVENT
UID:117-110
DTSTAMP:20260421T095505Z
SUMMARY:ベルコ旭川　ベルクラシック　スプリングフェス
 タ
LOCATION:ベルクラシック旭川 本町2丁目  旭川市 北海道 070
 -0810
ORGANIZER;CN=たま:MAILTO:s-t@umin.net
DTSTART;TZID=Asia/Tokyo:20210320T100000
DTEND;TZID=Asia/Tokyo:20210320T160000
X-ALT-DESC;FMTTYPE=TEXT/HTML:結婚式場ベルクラシックのスプリ
 ングフェスタです
CATEGORIES:イベント
URL;VALUE=URI:https://tama.blue/?mc-events=%e3%83%99%e3%83%ab%e3%82%b3%e6%9
 7%ad%e5%b7%9d%e3%80%80%e3%83%99%e3%83%ab%e3%82%af%e3%83%a9%e3%82%b7%e3%83%
 83%e3%82%af%e3%80%80%e3%82%b9%e3%83%97%e3%83%aa%e3%83%b3%e3%82%b0%e3%83%95
 %e3%82%a7%e3%82%b9
METHOD:PUBLISH
END:VEVENT
END:VCALENDAR