BEGIN:VCALENDAR
VERSION:2.0
PRODID:spatie/icalendar-generator
DESCRIPTION:ナースが旭川で占う　手相とタロットの「占〜
 せん〜」のイベント
X-WR-CALDESC:ナースが旭川で占う　手相とタロットの「占
 〜せん〜」のイベント
REFRESH-INTERVAL;VALUE=DURATION:PT1440M
X-PUBLISHED-TTL:PT1440M
BEGIN:VTIMEZONE
TZID:Asia/Tokyo
BEGIN:STANDARD
DTSTART:20210428T100000Z
TZOFFSETFROM:+0900
TZOFFSETTO:+0900
END:STANDARD
END:VTIMEZONE
BEGIN:VTIMEZONE
TZID:UTC
BEGIN:STANDARD
DTSTART:20250724T095543Z
TZOFFSETFROM:+0000
TZOFFSETTO:+0000
END:STANDARD
END:VTIMEZONE
BEGIN:VEVENT
UID:199-188
DTSTAMP:20260420T095543Z
SUMMARY:ベルコ旭川　ベルコ末広シティホール　終活セミ
 ナー
LOCATION:ベルコ 末広シティーホール 末広東２条４丁目7-25
   旭川市 北海道 071-8122
ORGANIZER;CN=たま:MAILTO:s-t@umin.net
DTSTART;TZID=Asia/Tokyo:20220123T100000
DTEND;TZID=Asia/Tokyo:20220123T140000
X-ALT-DESC;FMTTYPE=TEXT/HTML:ベルコ末広シティホールで行われ
 る就活セミナーに参加します
CATEGORIES:イベント
URL;VALUE=URI:https://tama.blue/?mc-events=%e3%83%99%e3%83%ab%e3%82%b3%e6%9
 7%ad%e5%b7%9d%e3%80%80%e3%83%99%e3%83%ab%e3%82%b3%e6%9c%ab%e5%ba%83%e3%82%
 b7%e3%83%86%e3%82%a3%e3%83%9b%e3%83%bc%e3%83%ab%e3%80%80%e7%b5%82%e6%b4%bb
 %e3%82%bb%e3%83%9f
METHOD:PUBLISH
END:VEVENT
END:VCALENDAR