BEGIN:VCALENDAR
VERSION:2.0
PRODID:spatie/icalendar-generator
DESCRIPTION:ナースが旭川で占う　手相とタロットの「占〜
 せん〜」のイベント
X-WR-CALDESC:ナースが旭川で占う　手相とタロットの「占
 〜せん〜」のイベント
REFRESH-INTERVAL;VALUE=DURATION:PT1440M
X-PUBLISHED-TTL:PT1440M
BEGIN:VTIMEZONE
TZID:Asia/Tokyo
BEGIN:STANDARD
DTSTART:20190426T100000Z
TZOFFSETFROM:+0900
TZOFFSETTO:+0900
END:STANDARD
END:VTIMEZONE
BEGIN:VTIMEZONE
TZID:UTC
BEGIN:STANDARD
DTSTART:20250724T083359Z
TZOFFSETFROM:+0000
TZOFFSETTO:+0000
END:STANDARD
END:VTIMEZONE
BEGIN:VEVENT
UID:53-51
DTSTAMP:20260420T083359Z
SUMMARY:ベルコ旭川　東光シティーホール　2020新春感謝フ
 ェア
LOCATION:ベルコ旭川市東光シティーホール 市東光２条5丁
 目2-11  旭川市 北海道 078-8342
ORGANIZER;CN=たま:MAILTO:s-t@umin.net
DTSTART;TZID=Asia/Tokyo:20200121T100000
DTEND;TZID=Asia/Tokyo:20200121T140000
X-ALT-DESC;FMTTYPE=TEXT/HTML:
CATEGORIES:イベント
URL;VALUE=URI:https://tama.blue/?mc-events=%e3%83%99%e3%83%ab%e3%82%b3%e6%9
 7%ad%e5%b7%9d%e3%80%80%e6%9d%b1%e5%85%89%e3%82%b7%e3%83%86%e3%82%a3%e3%83%
 bc%e3%83%9b%e3%83%bc%e3%83%ab%e3%80%802020%e6%96%b0%e6%98%a5%e6%84%9f%e8%a
 c%9d%e3%83%95
METHOD:PUBLISH
END:VEVENT
END:VCALENDAR