BEGIN:VCALENDAR
VERSION:2.0
PRODID:spatie/icalendar-generator
DESCRIPTION:ナースが旭川で占う　手相とタロットの「占〜
 せん〜」のイベント
X-WR-CALDESC:ナースが旭川で占う　手相とタロットの「占
 〜せん〜」のイベント
REFRESH-INTERVAL;VALUE=DURATION:PT1440M
X-PUBLISHED-TTL:PT1440M
BEGIN:VTIMEZONE
TZID:Asia/Tokyo
BEGIN:STANDARD
DTSTART:20241113T120000Z
TZOFFSETFROM:+0900
TZOFFSETTO:+0900
END:STANDARD
END:VTIMEZONE
BEGIN:VTIMEZONE
TZID:UTC
BEGIN:STANDARD
DTSTART:20250725T084533Z
TZOFFSETFROM:+0000
TZOFFSETTO:+0000
END:STANDARD
END:VTIMEZONE
BEGIN:VEVENT
UID:445-423
DTSTAMP:20260421T084533Z
SUMMARY:マジカルナイト　フェスティバル vol 1
LOCATION:旭川市市民活動交流センター CoCoDe 宮前１条３丁
 目３−３０  旭川市 北海道 078-8391
ORGANIZER;CN=たま:MAILTO:s-t@umin.net
DTSTART;TZID=Asia/Tokyo:20250810T120000
DTEND;TZID=Asia/Tokyo:20250810T170000
X-ALT-DESC;FMTTYPE=TEXT/HTML:確実に占いを受けるために、電話
 予約をお勧めします。 開場前に全枠が埋まることも多
 くなってきました。 電話　05&amp;hellip\;
CATEGORIES:イベント
URL;VALUE=URI:https://tama.blue/?mc-events=%e3%83%9e%e3%82%b8%e3%82%ab%e3%8
 3%ab%e3%83%8a%e3%82%a4%e3%83%88%e3%80%80%e3%83%95%e3%82%a7%e3%82%b9%e3%83%
 86%e3%82%a3%e3%83%90%e3%83%ab-vol-1
METHOD:PUBLISH
END:VEVENT
END:VCALENDAR