BEGIN:VCALENDAR
VERSION:2.0
PRODID:spatie/icalendar-generator
DESCRIPTION:ナースが旭川で占う　手相とタロットの「占〜
 せん〜」のイベント
X-WR-CALDESC:ナースが旭川で占う　手相とタロットの「占
 〜せん〜」のイベント
REFRESH-INTERVAL;VALUE=DURATION:PT1440M
X-PUBLISHED-TTL:PT1440M
BEGIN:VTIMEZONE
TZID:Asia/Tokyo
BEGIN:STANDARD
DTSTART:20240614T100000Z
TZOFFSETFROM:+0900
TZOFFSETTO:+0900
END:STANDARD
END:VTIMEZONE
BEGIN:VTIMEZONE
TZID:UTC
BEGIN:STANDARD
DTSTART:20250724T083410Z
TZOFFSETFROM:+0000
TZOFFSETTO:+0000
END:STANDARD
END:VTIMEZONE
BEGIN:VEVENT
UID:432-411
DTSTAMP:20260420T083410Z
SUMMARY:住友生命　旭川支店上川支部　契約者サービスデ
 ー
LOCATION:住友生命保険相互会社　旭川支社上川支部 永山
 ２条２２丁目２−９ サテラ永山 旭川市 北海道 079-8412
ORGANIZER;CN=たま:MAILTO:s-t@umin.net
DTSTART;TZID=Asia/Tokyo:20250311T100000
DTEND;TZID=Asia/Tokyo:20250311T160000
X-ALT-DESC;FMTTYPE=TEXT/HTML:住友生命　上川支部　の契約者サ
 ービスデーです 〒079-8412 北海道旭川市永山２条２２丁
 目２−９　サテラ永&amp;hellip\;
CATEGORIES:イベント
URL;VALUE=URI:https://tama.blue/?mc-events=%e4%bd%8f%e5%8f%8b%e7%94%9f%e5%9
 1%bd%e3%80%80%e6%97%ad%e5%b7%9d%e6%94%af%e5%ba%97%e4%b8%8a%e5%b7%9d%e6%94%
 af%e9%83%a8%e3%80%80%e5%a5%91%e7%b4%84%e8%80%85%e3%82%b5%e3%83%bc%e3%83%93
 %e3%82%b9%e3%83%87
METHOD:PUBLISH
END:VEVENT
END:VCALENDAR