BEGIN:VCALENDAR
VERSION:2.0
PRODID:spatie/icalendar-generator
DESCRIPTION:ナースが旭川で占う　手相とタロットの「占〜
 せん〜」のイベント
X-WR-CALDESC:ナースが旭川で占う　手相とタロットの「占
 〜せん〜」のイベント
REFRESH-INTERVAL;VALUE=DURATION:PT1440M
X-PUBLISHED-TTL:PT1440M
BEGIN:VTIMEZONE
TZID:Asia/Tokyo
BEGIN:STANDARD
DTSTART:20200311T100000Z
TZOFFSETFROM:+0900
TZOFFSETTO:+0900
END:STANDARD
END:VTIMEZONE
BEGIN:VTIMEZONE
TZID:UTC
BEGIN:STANDARD
DTSTART:20250724T095510Z
TZOFFSETFROM:+0000
TZOFFSETTO:+0000
END:STANDARD
END:VTIMEZONE
BEGIN:VEVENT
UID:100-94
DTSTAMP:20260420T095510Z
SUMMARY:体験会　おやこ de リラクゼーション
LOCATION:旭川市北部住民センター 春光5条4丁目1  旭川市 
 北海道 070-0875
ORGANIZER;CN=たま:MAILTO:s-t@umin.net
DTSTART;TZID=Asia/Tokyo:20201206T100000
DTEND;TZID=Asia/Tokyo:20201206T160000
X-ALT-DESC;FMTTYPE=TEXT/HTML:2020/11/27記載 午前の部は予約で埋
 まりました 午後の部の予約を受け付けています ---------
 -&amp;hellip\;
CATEGORIES:イベント
URL;VALUE=URI:https://tama.blue/?mc-events=%e4%bd%93%e9%a8%93%e4%bc%9a%e3%8
 0%80%e3%81%8a%e3%82%84%e3%81%93-de-%e3%83%aa%e3%83%a9%e3%82%af%e3%82%bc%e3
 %83%bc%e3%82%b7%e3%83%a7%e3%83%b3
METHOD:PUBLISH
END:VEVENT
END:VCALENDAR