BEGIN:VCALENDAR
VERSION:2.0
PRODID:spatie/icalendar-generator
DESCRIPTION:ナースが旭川で占う　手相とタロットの「占〜
 せん〜」のイベント
X-WR-CALDESC:ナースが旭川で占う　手相とタロットの「占
 〜せん〜」のイベント
REFRESH-INTERVAL;VALUE=DURATION:PT1440M
X-PUBLISHED-TTL:PT1440M
BEGIN:VTIMEZONE
TZID:Asia/Tokyo
BEGIN:STANDARD
DTSTART:20230305T100000Z
TZOFFSETFROM:+0900
TZOFFSETTO:+0900
END:STANDARD
END:VTIMEZONE
BEGIN:VTIMEZONE
TZID:UTC
BEGIN:STANDARD
DTSTART:20250724T083021Z
TZOFFSETFROM:+0000
TZOFFSETTO:+0000
END:STANDARD
END:VTIMEZONE
BEGIN:VEVENT
UID:344-327
DTSTAMP:20260420T083021Z
SUMMARY:北きた　東旭川店　イベント
LOCATION:北きた　東旭川店 東旭川南１条６丁目５−１３  
 旭川市 北海道 078-8261
ORGANIZER;CN=たま:MAILTO:s-t@umin.net
DTSTART;TZID=Asia/Tokyo:20231130T100000
DTEND;TZID=Asia/Tokyo:20231130T160000
X-ALT-DESC;FMTTYPE=TEXT/HTML:北きた　店　でのイベントです
CATEGORIES:イベント
URL;VALUE=URI:https://tama.blue/?mc-events=%e5%8c%97%e3%81%8d%e3%81%9f%e3%8
 0%80%e6%9d%b1%e6%97%ad%e5%b7%9d%e5%ba%97%e3%80%80%e3%82%a4%e3%83%99%e3%83%
 b3%e3%83%88
METHOD:PUBLISH
END:VEVENT
END:VCALENDAR