BEGIN:VCALENDAR
VERSION:2.0
PRODID:spatie/icalendar-generator
DESCRIPTION:ナースが旭川で占う　手相とタロットの「占〜
 せん〜」のイベント
X-WR-CALDESC:ナースが旭川で占う　手相とタロットの「占
 〜せん〜」のイベント
REFRESH-INTERVAL;VALUE=DURATION:PT1440M
X-PUBLISHED-TTL:PT1440M
BEGIN:VTIMEZONE
TZID:Asia/Tokyo
BEGIN:STANDARD
DTSTART:20211207T100000Z
TZOFFSETFROM:+0900
TZOFFSETTO:+0900
END:STANDARD
END:VTIMEZONE
BEGIN:VTIMEZONE
TZID:UTC
BEGIN:STANDARD
DTSTART:20250724T095339Z
TZOFFSETFROM:+0000
TZOFFSETTO:+0000
END:STANDARD
END:VTIMEZONE
BEGIN:VEVENT
UID:246-234
DTSTAMP:20260420T095339Z
SUMMARY:御結び市　at たきかわマルシェ
LOCATION:滝川市民交流プラザ（ホテルスエヒロ1階小ホー
 ル） 2-16 明神町2丁目 滝川市 北海道 073-0032
ORGANIZER;CN=たま:MAILTO:s-t@umin.net
DTSTART;TZID=Asia/Tokyo:20220903T100000
DTEND;TZID=Asia/Tokyo:20220903T160000
X-ALT-DESC;FMTTYPE=TEXT/HTML:滝川市民交流プラザでの初めての
 開催です。 ご来店お待ちしております すぐ占うために
 、電話予約をお薦めします。現&amp;hellip\;
CATEGORIES:イベント
URL;VALUE=URI:https://tama.blue/?mc-events=%e5%be%a1%e7%b5%90%e3%81%b3%e5%b
 8%82%e3%80%80at-%e3%81%9f%e3%81%8d%e3%81%8b%e3%82%8f%e3%83%9e%e3%83%ab%e3%
 82%b7%e3%82%a7
METHOD:PUBLISH
END:VEVENT
END:VCALENDAR