BEGIN:VCALENDAR
VERSION:2.0
PRODID:spatie/icalendar-generator
DESCRIPTION:ナースが旭川で占う　手相とタロットの「占〜
 せん〜」のイベント
X-WR-CALDESC:ナースが旭川で占う　手相とタロットの「占
 〜せん〜」のイベント
REFRESH-INTERVAL;VALUE=DURATION:PT1440M
X-PUBLISHED-TTL:PT1440M
BEGIN:VTIMEZONE
TZID:Asia/Tokyo
BEGIN:STANDARD
DTSTART:20210908T100000Z
TZOFFSETFROM:+0900
TZOFFSETTO:+0900
END:STANDARD
END:VTIMEZONE
BEGIN:VTIMEZONE
TZID:UTC
BEGIN:STANDARD
DTSTART:20250724T083401Z
TZOFFSETFROM:+0000
TZOFFSETTO:+0000
END:STANDARD
END:VTIMEZONE
BEGIN:VEVENT
UID:221-209
DTSTAMP:20260420T083401Z
SUMMARY:御結び市　at 旭川市市民活動交流センター CoCoDe
LOCATION:旭川市市民活動交流センター CoCoDe 宮前１条３丁
 目３−３０  旭川市 北海道 078-8391
ORGANIZER;CN=たま:MAILTO:s-t@umin.net
DTSTART;TZID=Asia/Tokyo:20220605T100000
DTEND;TZID=Asia/Tokyo:20220605T170000
X-ALT-DESC;FMTTYPE=TEXT/HTML:旭川市市民活動交流センター CoCoDe
 でのおむすび市です ご来店お待ちしております すぐ占
 うために、電話予約&amp;hellip\;
CATEGORIES:イベント
URL;VALUE=URI:https://tama.blue/?mc-events=%e5%be%a1%e7%b5%90%e3%81%b3%e5%b
 8%82%e3%80%80at-%e6%97%ad%e5%b7%9d%e5%b8%82%e5%b8%82%e6%b0%91%e6%b4%bb%e5%
 8b%95%e4%ba%a4%e6%b5%81%e3%82%bb%e3%83%b3%e3%82%bf%e3%83%bc-cocode
METHOD:PUBLISH
END:VEVENT
END:VCALENDAR