BEGIN:VCALENDAR
VERSION:2.0
PRODID:spatie/icalendar-generator
DESCRIPTION:ナースが旭川で占う　手相とタロットの「占〜
 せん〜」のイベント
X-WR-CALDESC:ナースが旭川で占う　手相とタロットの「占
 〜せん〜」のイベント
REFRESH-INTERVAL;VALUE=DURATION:PT1440M
X-PUBLISHED-TTL:PT1440M
BEGIN:VTIMEZONE
TZID:Asia/Tokyo
BEGIN:STANDARD
DTSTART:20220720T100000Z
TZOFFSETFROM:+0900
TZOFFSETTO:+0900
END:STANDARD
END:VTIMEZONE
BEGIN:VTIMEZONE
TZID:UTC
BEGIN:STANDARD
DTSTART:20250724T095520Z
TZOFFSETFROM:+0000
TZOFFSETTO:+0000
END:STANDARD
END:VTIMEZONE
BEGIN:VEVENT
UID:280-265
DTSTAMP:20260420T095520Z
SUMMARY:御結び市　at 旭川市緑ヶ丘グリンパル
LOCATION:グリンパル（旭川市緑が丘地域活動センター） 
 緑が丘東３条１丁目３−１０番３０号  旭川市 北海道 0
 78-8803
ORGANIZER;CN=たま:MAILTO:s-t@umin.net
DTSTART;TZID=Asia/Tokyo:20230416T100000
DTEND;TZID=Asia/Tokyo:20230416T150000
X-ALT-DESC;FMTTYPE=TEXT/HTML:ご来店お待ちしております すぐ占
 うために、電話予約をお薦めします。現在お客様の半
 数以上は予約して来店されていま&amp;hellip\;
CATEGORIES:イベント
URL;VALUE=URI:https://tama.blue/?mc-events=%e5%be%a1%e7%b5%90%e3%81%b3%e5%b
 8%82%e3%80%80at-%e6%97%ad%e5%b7%9d%e5%b8%82%e7%b7%91%e3%83%b6%e4%b8%98%e3%
 82%b0%e3%83%aa%e3%83%b3%e3%83%91%e3%83%ab-3
METHOD:PUBLISH
END:VEVENT
END:VCALENDAR