BEGIN:VCALENDAR
VERSION:2.0
PRODID:spatie/icalendar-generator
DESCRIPTION:ナースが旭川で占う　手相とタロットの「占〜
 せん〜」のイベント
X-WR-CALDESC:ナースが旭川で占う　手相とタロットの「占
 〜せん〜」のイベント
REFRESH-INTERVAL;VALUE=DURATION:PT1440M
X-PUBLISHED-TTL:PT1440M
BEGIN:VTIMEZONE
TZID:Asia/Tokyo
BEGIN:STANDARD
DTSTART:20240828T100000Z
TZOFFSETFROM:+0900
TZOFFSETTO:+0900
END:STANDARD
END:VTIMEZONE
BEGIN:VTIMEZONE
TZID:UTC
BEGIN:STANDARD
DTSTART:20250724T095509Z
TZOFFSETFROM:+0000
TZOFFSETTO:+0000
END:STANDARD
END:VTIMEZONE
BEGIN:VEVENT
UID:422-402
DTSTAMP:20260420T095509Z
SUMMARY:御結び市　at 東部住民センター
LOCATION:旭川市東部住民センター 東光５条２丁目２  旭川
 市 北海道 078-8345
ORGANIZER;CN=たま:MAILTO:s-t@umin.net
DTSTART;TZID=Asia/Tokyo:20250525T100000
DTEND;TZID=Asia/Tokyo:20250525T160000
X-ALT-DESC;FMTTYPE=TEXT/HTML:確実に占いを受けるために、電話
 予約をお勧めします。 開場前に全枠が埋まることも多
 くなってきました。 電話　05&amp;hellip\;
CATEGORIES:イベント
URL;VALUE=URI:https://tama.blue/?mc-events=%e5%be%a1%e7%b5%90%e3%81%b3%e5%b
 8%82%e3%80%80at-%e6%9d%b1%e9%83%a8%e4%bd%8f%e6%b0%91%e3%82%bb%e3%83%b3%e3%
 82%bf%e3%83%bc
METHOD:PUBLISH
END:VEVENT
END:VCALENDAR