BEGIN:VCALENDAR
VERSION:2.0
PRODID:spatie/icalendar-generator
DESCRIPTION:ナースが旭川で占う　手相とタロットの「占〜
 せん〜」のイベント
X-WR-CALDESC:ナースが旭川で占う　手相とタロットの「占
 〜せん〜」のイベント
REFRESH-INTERVAL;VALUE=DURATION:PT1440M
X-PUBLISHED-TTL:PT1440M
BEGIN:VTIMEZONE
TZID:Asia/Tokyo
BEGIN:STANDARD
DTSTART:20231010T100000Z
TZOFFSETFROM:+0900
TZOFFSETTO:+0900
END:STANDARD
END:VTIMEZONE
BEGIN:VTIMEZONE
TZID:UTC
BEGIN:STANDARD
DTSTART:20250725T095428Z
TZOFFSETFROM:+0000
TZOFFSETTO:+0000
END:STANDARD
END:VTIMEZONE
BEGIN:VEVENT
UID:376-356
DTSTAMP:20260421T095428Z
SUMMARY:御結び市 at 旭川神居　やわらぎ斎場
LOCATION:やわらぎ斎場　旭川市神居 神居１条２丁目１−
 １３  旭川市 北海道 070-8011
ORGANIZER;CN=たま:MAILTO:s-t@umin.net
DTSTART;TZID=Asia/Tokyo:20240706T100000
DTEND;TZID=Asia/Tokyo:20240706T170000
X-ALT-DESC;FMTTYPE=TEXT/HTML:旭川市神居のやわらぎ斎場で開か
 れるイベントに参加します。 どうぞおいでください
CATEGORIES:イベント
URL;VALUE=URI:https://tama.blue/?mc-events=%e5%be%a1%e7%b5%90%e3%81%b3%e5%b
 8%82-at-%e6%97%ad%e5%b7%9d%e7%a5%9e%e5%b1%85%e3%80%80%e3%82%84%e3%82%8f%e3
 %82%89%e3%81%8e%e6%96%8e%e5%a0%b4
METHOD:PUBLISH
END:VEVENT
END:VCALENDAR