BEGIN:VCALENDAR
VERSION:2.0
PRODID:spatie/icalendar-generator
DESCRIPTION:ナースが旭川で占う　手相とタロットの「占〜
 せん〜」のイベント
X-WR-CALDESC:ナースが旭川で占う　手相とタロットの「占
 〜せん〜」のイベント
REFRESH-INTERVAL;VALUE=DURATION:PT1440M
X-PUBLISHED-TTL:PT1440M
BEGIN:VTIMEZONE
TZID:Asia/Tokyo
BEGIN:STANDARD
DTSTART:20200126T100000Z
TZOFFSETFROM:+0900
TZOFFSETTO:+0900
END:STANDARD
END:VTIMEZONE
BEGIN:VTIMEZONE
TZID:UTC
BEGIN:STANDARD
DTSTART:20250724T095310Z
TZOFFSETFROM:+0000
TZOFFSETTO:+0000
END:STANDARD
END:VTIMEZONE
BEGIN:VEVENT
UID:101-95
DTSTAMP:20260420T095310Z
SUMMARY:日本生命　富良野市　研修会
LOCATION:日本生命保険相互会社富良野営業所 若松町８−
 ２３  富良野市 北海道 076-0032
ORGANIZER;CN=たま:MAILTO:s-t@umin.net
DTSTART;TZID=Asia/Tokyo:20201022T100000
DTEND;TZID=Asia/Tokyo:20201022T160000
X-ALT-DESC;FMTTYPE=TEXT/HTML:北海道富良野市で行われる日本生
 命の研修会です 日本生命保険相互会社富良野営業所 北
 海道富良野市若松町8-23 &amp;hellip\;
CATEGORIES:イベント
URL;VALUE=URI:https://tama.blue/?mc-events=%e6%97%a5%e6%9c%ac%e7%94%9f%e5%9
 1%bd%e3%80%80%e5%af%8c%e8%89%af%e9%87%8e%e5%b8%82%e3%80%80%e7%a0%94%e4%bf%
 ae%e4%bc%9a
METHOD:PUBLISH
END:VEVENT
END:VCALENDAR