BEGIN:VCALENDAR
VERSION:2.0
PRODID:spatie/icalendar-generator
DESCRIPTION:ナースが旭川で占う　手相とタロットの「占〜
 せん〜」のイベント
X-WR-CALDESC:ナースが旭川で占う　手相とタロットの「占
 〜せん〜」のイベント
REFRESH-INTERVAL;VALUE=DURATION:PT1440M
X-PUBLISHED-TTL:PT1440M
BEGIN:VTIMEZONE
TZID:Asia/Tokyo
BEGIN:STANDARD
DTSTART:20230427T100000Z
TZOFFSETFROM:+0900
TZOFFSETTO:+0900
END:STANDARD
END:VTIMEZONE
BEGIN:VTIMEZONE
TZID:UTC
BEGIN:STANDARD
DTSTART:20250724T095519Z
TZOFFSETFROM:+0000
TZOFFSETTO:+0000
END:STANDARD
END:VTIMEZONE
BEGIN:VEVENT
UID:353-334
DTSTAMP:20260420T095519Z
SUMMARY:日本生命保険相互会社　旭川東営業部　お客様感
 謝デー
LOCATION:日本生命保険 旭川支社 旭川東営業部 東光８条４
 丁目1-26  旭川市 北海道 078-8348
ORGANIZER;CN=たま:MAILTO:s-t@umin.net
DTSTART;TZID=Asia/Tokyo:20240122T100000
DTEND;TZID=Asia/Tokyo:20240122T160000
X-ALT-DESC;FMTTYPE=TEXT/HTML:日本生命　旭川東　営業部の　お
 客様感謝デーです 日本生命保険相互会社　旭川東営業
 部 〒078-8348 北海道&amp;hellip\;
CATEGORIES:イベント
URL;VALUE=URI:https://tama.blue/?mc-events=%e6%97%a5%e6%9c%ac%e7%94%9f%e5%9
 1%bd%e4%bf%9d%e9%99%ba%e7%9b%b8%e4%ba%92%e4%bc%9a%e7%a4%be%e3%80%80%e6%97%
 ad%e5%b7%9d%e6%9d%b1%e5%96%b6%e6%a5%ad%e9%83%a8%e3%80%80%e3%81%8a%e5%ae%a2
 %e6%a7%98%e6%84%9f
METHOD:PUBLISH
END:VEVENT
END:VCALENDAR