BEGIN:VCALENDAR
VERSION:2.0
PRODID:spatie/icalendar-generator
DESCRIPTION:ナースが旭川で占う　手相とタロットの「占〜
 せん〜」のイベント
X-WR-CALDESC:ナースが旭川で占う　手相とタロットの「占
 〜せん〜」のイベント
REFRESH-INTERVAL;VALUE=DURATION:PT1440M
X-PUBLISHED-TTL:PT1440M
BEGIN:VTIMEZONE
TZID:Asia/Tokyo
BEGIN:STANDARD
DTSTART:20211016T110000Z
TZOFFSETFROM:+0900
TZOFFSETTO:+0900
END:STANDARD
END:VTIMEZONE
BEGIN:VTIMEZONE
TZID:UTC
BEGIN:STANDARD
DTSTART:20250724T083409Z
TZOFFSETFROM:+0000
TZOFFSETTO:+0000
END:STANDARD
END:VTIMEZONE
BEGIN:VEVENT
UID:354-335
DTSTAMP:20260420T083409Z
SUMMARY:日本生命保険相互会社　旭川永山営業部　研修会
LOCATION:日本生命保険相互会社旭川永山営業部 永山3条16
 丁目5-2  旭川市 北海道 079-8413
ORGANIZER;CN=たま:MAILTO:s-t@umin.net
DTSTART;TZID=Asia/Tokyo:20220713T110000
DTEND;TZID=Asia/Tokyo:20220713T160000
X-ALT-DESC;FMTTYPE=TEXT/HTML:日本生命　旭川永山営業部　の研
 修会です 日本生命保険相互会社旭川永山営業部 〒079-84
 13 北海道旭川市永&amp;hellip\;
CATEGORIES:イベント
URL;VALUE=URI:https://tama.blue/?mc-events=%e6%97%a5%e6%9c%ac%e7%94%9f%e5%9
 1%bd%e4%bf%9d%e9%99%ba%e7%9b%b8%e4%ba%92%e4%bc%9a%e7%a4%be%e3%80%80%e6%97%
 ad%e5%b7%9d%e6%b0%b8%e5%b1%b1%e5%96%b6%e6%a5%ad%e9%83%a8%e3%80%80%e7%a0%94
 %e4%bf%ae%e4%bc%9a-3
METHOD:PUBLISH
END:VEVENT
END:VCALENDAR