BEGIN:VCALENDAR
VERSION:2.0
PRODID:spatie/icalendar-generator
DESCRIPTION:ナースが旭川で占う　手相とタロットの「占〜
 せん〜」のイベント
X-WR-CALDESC:ナースが旭川で占う　手相とタロットの「占
 〜せん〜」のイベント
REFRESH-INTERVAL;VALUE=DURATION:PT1440M
X-PUBLISHED-TTL:PT1440M
BEGIN:VTIMEZONE
TZID:Asia/Tokyo
BEGIN:STANDARD
DTSTART:20250206T100000Z
TZOFFSETFROM:+0900
TZOFFSETTO:+0900
END:STANDARD
END:VTIMEZONE
BEGIN:VTIMEZONE
TZID:UTC
BEGIN:STANDARD
DTSTART:20250724T095340Z
TZOFFSETFROM:+0000
TZOFFSETTO:+0000
END:STANDARD
END:VTIMEZONE
BEGIN:VEVENT
UID:462-439
DTSTAMP:20260420T095340Z
SUMMARY:旭川市東鷹栖　Link AP イベント
LOCATION:旭川市東鷹栖 Link AP 東鷹栖1条3丁目635番地97  旭川
 市 北海道 071-8101
ORGANIZER;CN=たま:MAILTO:s-t@umin.net
DTSTART;TZID=Asia/Tokyo:20251103T100000
DTEND;TZID=Asia/Tokyo:20251103T160000
X-ALT-DESC;FMTTYPE=TEXT/HTML:確実に占いを受けるために、電話
 予約をお勧めします。 開場前に全枠が埋まることも多
 くなってきました。 電話　05&amp;hellip\;
CATEGORIES:イベント
URL;VALUE=URI:https://tama.blue/?mc-events=%e6%97%ad%e5%b7%9d%e5%b8%82%e6%9
 d%b1%e9%b7%b9%e6%a0%96%e3%80%80link-ap-%e3%82%a4%e3%83%99%e3%83%b3%e3%83%8
 8
METHOD:PUBLISH
END:VEVENT
END:VCALENDAR