BEGIN:VCALENDAR
VERSION:2.0
PRODID:spatie/icalendar-generator
DESCRIPTION:ナースが旭川で占う　手相とタロットの「占〜
 せん〜」のイベント
X-WR-CALDESC:ナースが旭川で占う　手相とタロットの「占
 〜せん〜」のイベント
REFRESH-INTERVAL;VALUE=DURATION:PT1440M
X-PUBLISHED-TTL:PT1440M
BEGIN:VTIMEZONE
TZID:Asia/Tokyo
BEGIN:STANDARD
DTSTART:20240708T100000Z
TZOFFSETFROM:+0900
TZOFFSETTO:+0900
END:STANDARD
END:VTIMEZONE
BEGIN:VTIMEZONE
TZID:UTC
BEGIN:STANDARD
DTSTART:20250724T095542Z
TZOFFSETFROM:+0000
TZOFFSETTO:+0000
END:STANDARD
END:VTIMEZONE
BEGIN:VEVENT
UID:433-412
DTSTAMP:20260420T095542Z
SUMMARY:旭川市緑が丘グリーンプラザ　フリーマーケット
LOCATION:緑が丘グリーンプラザ 緑が丘３条３丁目１−１
 ３  旭川市 北海道 0788303
ORGANIZER;CN=たま:MAILTO:s-t@umin.net
DTSTART;TZID=Asia/Tokyo:20250404T100000
DTEND;TZID=Asia/Tokyo:20250404T160000
X-ALT-DESC;FMTTYPE=TEXT/HTML:旭川市緑が丘グリーンプラザでの
 イベントです。 確実に占いを受けるために、電話予約
 をお勧めします。 開場前に全枠&amp;hellip\;
CATEGORIES:イベント
URL;VALUE=URI:https://tama.blue/?mc-events=%e6%97%ad%e5%b7%9d%e5%b8%82%e7%b
 7%91%e3%81%8c%e4%b8%98%e3%82%b0%e3%83%aa%e3%83%bc%e3%83%b3%e3%83%97%e3%83%
 a9%e3%82%b6%e3%80%80%e3%83%95%e3%83%aa%e3%83%bc%e3%83%9e%e3%83%bc%e3%82%b1
 %e3%83%83%e3%83%88
METHOD:PUBLISH
END:VEVENT
END:VCALENDAR