BEGIN:VCALENDAR
VERSION:2.0
PRODID:spatie/icalendar-generator
DESCRIPTION:ナースが旭川で占う　手相とタロットの「占〜
 せん〜」のイベント
X-WR-CALDESC:ナースが旭川で占う　手相とタロットの「占
 〜せん〜」のイベント
REFRESH-INTERVAL;VALUE=DURATION:PT1440M
X-PUBLISHED-TTL:PT1440M
BEGIN:VTIMEZONE
TZID:Asia/Tokyo
BEGIN:STANDARD
DTSTART:20201003T110000Z
TZOFFSETFROM:+0900
TZOFFSETTO:+0900
END:STANDARD
END:VTIMEZONE
BEGIN:VTIMEZONE
TZID:UTC
BEGIN:STANDARD
DTSTART:20250724T083359Z
TZOFFSETFROM:+0000
TZOFFSETTO:+0000
END:STANDARD
END:VTIMEZONE
BEGIN:VEVENT
UID:153-144
DTSTAMP:20260420T083359Z
SUMMARY:朝日生命保健相互会社　旭川支社　研修会
LOCATION:
ORGANIZER;CN=たま:MAILTO:s-t@umin.net
DTSTART;TZID=Asia/Tokyo:20210630T110000
DTEND;TZID=Asia/Tokyo:20210630T170000
X-ALT-DESC;FMTTYPE=TEXT/HTML:朝日生命　旭川支社　の研修会で
 す 朝日生命 旭川支社 所在地： 〒070-0024 北海道旭川市
 ４条9丁目 電&amp;hellip\;
CATEGORIES:イベント
URL;VALUE=URI:https://tama.blue/?mc-events=%e6%9c%9d%e6%97%a5%e7%94%9f%e5%9
 1%bd%e4%bf%9d%e5%81%a5%e7%9b%b8%e4%ba%92%e4%bc%9a%e7%a4%be%e3%80%80%e6%97%
 ad%e5%b7%9d%e6%94%af%e7%a4%be%e3%80%80%e7%a0%94%e4%bf%ae%e4%bc%9a-5
METHOD:PUBLISH
END:VEVENT
END:VCALENDAR