BEGIN:VCALENDAR
VERSION:2.0
PRODID:spatie/icalendar-generator
DESCRIPTION:ナースが旭川で占う　手相とタロットの「占〜
 せん〜」のイベント
X-WR-CALDESC:ナースが旭川で占う　手相とタロットの「占
 〜せん〜」のイベント
REFRESH-INTERVAL;VALUE=DURATION:PT1440M
X-PUBLISHED-TTL:PT1440M
BEGIN:VTIMEZONE
TZID:Asia/Tokyo
BEGIN:STANDARD
DTSTART:20190115T100000Z
TZOFFSETFROM:+0900
TZOFFSETTO:+0900
END:STANDARD
END:VTIMEZONE
BEGIN:VTIMEZONE
TZID:UTC
BEGIN:STANDARD
DTSTART:20250724T083347Z
TZOFFSETFROM:+0000
TZOFFSETTO:+0000
END:STANDARD
END:VTIMEZONE
BEGIN:VEVENT
UID:20-19
DTSTAMP:20260420T083347Z
SUMMARY:深山峠アートパークイベント
LOCATION:上富良野トリックアート美術館 西8線北33号深山
 峠  空知郡上富良野町 北海道 071-0508
ORGANIZER;CN=たま:MAILTO:s-t@umin.net
DTSTART;TZID=Asia/Tokyo:20191012T100000
DTEND;TZID=Asia/Tokyo:20191013T160000
X-ALT-DESC;FMTTYPE=TEXT/HTML:
CATEGORIES:イベント
URL;VALUE=URI:https://tama.blue/?mc-events=%e6%b7%b1%e5%b1%b1%e5%b3%a0%e3%8
 2%a2%e3%83%bc%e3%83%88%e3%83%91%e3%83%bc%e3%82%af%e3%82%a4%e3%83%99%e3%83%
 b3%e3%83%88
METHOD:PUBLISH
END:VEVENT
END:VCALENDAR