BEGIN:VCALENDAR
VERSION:2.0
PRODID:spatie/icalendar-generator
DESCRIPTION:ナースが旭川で占う　手相とタロットの「占〜
 せん〜」のイベント
X-WR-CALDESC:ナースが旭川で占う　手相とタロットの「占
 〜せん〜」のイベント
REFRESH-INTERVAL;VALUE=DURATION:PT1440M
X-PUBLISHED-TTL:PT1440M
BEGIN:VTIMEZONE
TZID:Asia/Tokyo
BEGIN:STANDARD
DTSTART:20240524T100000Z
TZOFFSETFROM:+0900
TZOFFSETTO:+0900
END:STANDARD
END:VTIMEZONE
BEGIN:VTIMEZONE
TZID:UTC
BEGIN:STANDARD
DTSTART:20250725T095428Z
TZOFFSETFROM:+0000
TZOFFSETTO:+0000
END:STANDARD
END:VTIMEZONE
BEGIN:VEVENT
UID:410-390
DTSTAMP:20260421T095428Z
SUMMARY:癒しの輪　春光台地区センター
LOCATION:春光台地区センター 春光台３条５丁目１−１８  
 旭川市 北海道 071-8143
ORGANIZER;CN=たま:MAILTO:s-t@umin.net
DTSTART;TZID=Asia/Tokyo:20250218T100000
DTEND;TZID=Asia/Tokyo:20250218T160000
X-ALT-DESC;FMTTYPE=TEXT/HTML:電話予約をお勧めいたします。 「
 癒しの環」開催します
CATEGORIES:イベント
URL;VALUE=URI:https://tama.blue/?mc-events=%e7%99%92%e3%81%97%e3%81%ae%e8%b
 c%aa%e3%80%80%e6%98%a5%e5%85%89%e5%8f%b0%e5%9c%b0%e5%8c%ba%e3%82%bb%e3%83%
 b3%e3%82%bf%e3%83%bc-2
METHOD:PUBLISH
END:VEVENT
END:VCALENDAR