BEGIN:VCALENDAR
VERSION:2.0
PRODID:spatie/icalendar-generator
DESCRIPTION:ナースが旭川で占う　手相とタロットの「占〜
 せん〜」のイベント
X-WR-CALDESC:ナースが旭川で占う　手相とタロットの「占
 〜せん〜」のイベント
REFRESH-INTERVAL;VALUE=DURATION:PT1440M
X-PUBLISHED-TTL:PT1440M
BEGIN:VTIMEZONE
TZID:Asia/Tokyo
BEGIN:STANDARD
DTSTART:20180822T100000Z
TZOFFSETFROM:+0900
TZOFFSETTO:+0900
END:STANDARD
END:VTIMEZONE
BEGIN:VTIMEZONE
TZID:UTC
BEGIN:STANDARD
DTSTART:20250723T171830Z
TZOFFSETFROM:+0000
TZOFFSETTO:+0000
END:STANDARD
END:VTIMEZONE
BEGIN:VEVENT
UID:9-9
DTSTAMP:20260419T171830Z
SUMMARY:癒しの輪
LOCATION:旭川市永山住民センター 永山7条４丁目4  旭川市 
 北海道 079-8417
ORGANIZER;CN=たま:MAILTO:s-t@umin.net
DTSTART;TZID=Asia/Tokyo:20190519T100000
DTEND;TZID=Asia/Tokyo:20190519T160000
X-ALT-DESC;FMTTYPE=TEXT/HTML:
CATEGORIES:イベント
URL;VALUE=URI:https://tama.blue/?mc-events=%e7%99%92%e3%81%97%e3%81%ae%e8%b
 c%aa-3
METHOD:PUBLISH
END:VEVENT
END:VCALENDAR