BEGIN:VCALENDAR
VERSION:2.0
PRODID:spatie/icalendar-generator
DESCRIPTION:ナースが旭川で占う　手相とタロットの「占〜
 せん〜」のイベント
X-WR-CALDESC:ナースが旭川で占う　手相とタロットの「占
 〜せん〜」のイベント
REFRESH-INTERVAL;VALUE=DURATION:PT1440M
X-PUBLISHED-TTL:PT1440M
BEGIN:VTIMEZONE
TZID:Asia/Tokyo
BEGIN:STANDARD
DTSTART:20221126T100000Z
TZOFFSETFROM:+0900
TZOFFSETTO:+0900
END:STANDARD
END:VTIMEZONE
BEGIN:VTIMEZONE
TZID:UTC
BEGIN:STANDARD
DTSTART:20250724T093916Z
TZOFFSETFROM:+0000
TZOFFSETTO:+0000
END:STANDARD
END:VTIMEZONE
BEGIN:VEVENT
UID:333-317
DTSTAMP:20260420T093916Z
SUMMARY:第一生命　旭川支店　永山営業オフィス　保険契
 約者感謝デー
LOCATION:第一生命保険株式会社／旭川支社／永山営業オフ
 ィス 永山3条６丁目2  旭川市 北海道 079-6413
ORGANIZER;CN=たま:MAILTO:s-t@umin.net
DTSTART;TZID=Asia/Tokyo:20230823T100000
DTEND;TZID=Asia/Tokyo:20230823T160000
X-ALT-DESC;FMTTYPE=TEXT/HTML:&amp;nbsp\; 第一生命　旭川支社　永山
 営業オフィス　の保険契約者感謝デーです
CATEGORIES:イベント
URL;VALUE=URI:https://tama.blue/?mc-events=%e7%ac%ac%e4%b8%80%e7%94%9f%e5%9
 1%bd%e3%80%80%e6%97%ad%e5%b7%9d%e6%94%af%e5%ba%97%e3%80%80%e6%b0%b8%e5%b1%
 b1%e5%96%b6%e6%a5%ad%e3%82%aa%e3%83%95%e3%82%a3%e3%82%b9%e3%80%80%e4%bf%9d
 %e9%99%ba%e5%a5%91
METHOD:PUBLISH
END:VEVENT
END:VCALENDAR