BEGIN:VCALENDAR
VERSION:2.0
PRODID:spatie/icalendar-generator
DESCRIPTION:ナースが旭川で占う　手相とタロットの「占〜
 せん〜」のイベント
X-WR-CALDESC:ナースが旭川で占う　手相とタロットの「占
 〜せん〜」のイベント
REFRESH-INTERVAL;VALUE=DURATION:PT1440M
X-PUBLISHED-TTL:PT1440M
BEGIN:VTIMEZONE
TZID:Asia/Tokyo
BEGIN:STANDARD
DTSTART:20191026T110000Z
TZOFFSETFROM:+0900
TZOFFSETTO:+0900
END:STANDARD
END:VTIMEZONE
BEGIN:VTIMEZONE
TZID:UTC
BEGIN:STANDARD
DTSTART:20250724T083034Z
TZOFFSETFROM:+0000
TZOFFSETTO:+0000
END:STANDARD
END:VTIMEZONE
BEGIN:VEVENT
UID:81-78
DTSTAMP:20260420T083034Z
SUMMARY:舞ふれんど　イベント
LOCATION:舞ふれんど 末広5条1丁目2−17  旭川市 北海道 071-8
 135
ORGANIZER;CN=たま:MAILTO:s-t@umin.net
DTSTART;TZID=Asia/Tokyo:20200722T110000
DTEND;TZID=Asia/Tokyo:20200722T170000
X-ALT-DESC;FMTTYPE=TEXT/HTML:アジア服・雑貨　さばいでぃ　姉
 妹のこっとん 占いコーナーとして出店します。
CATEGORIES:イベント
URL;VALUE=URI:https://tama.blue/?mc-events=%e8%88%9e%e3%81%b5%e3%82%8c%e3%8
 2%93%e3%81%a9%e3%80%80%e3%82%a4%e3%83%99%e3%83%b3%e3%83%88-2
METHOD:PUBLISH
END:VEVENT
END:VCALENDAR