BEGIN:VCALENDAR
VERSION:2.0
PRODID:spatie/icalendar-generator
DESCRIPTION:ナースが旭川で占う　手相とタロットの「占〜
 せん〜」のイベント
X-WR-CALDESC:ナースが旭川で占う　手相とタロットの「占
 〜せん〜」のイベント
REFRESH-INTERVAL;VALUE=DURATION:PT1440M
X-PUBLISHED-TTL:PT1440M
BEGIN:VTIMEZONE
TZID:Asia/Tokyo
BEGIN:STANDARD
DTSTART:20191025T110000Z
TZOFFSETFROM:+0900
TZOFFSETTO:+0900
END:STANDARD
END:VTIMEZONE
BEGIN:VTIMEZONE
TZID:UTC
BEGIN:STANDARD
DTSTART:20250724T081644Z
TZOFFSETFROM:+0000
TZOFFSETTO:+0000
END:STANDARD
END:VTIMEZONE
BEGIN:VEVENT
UID:82-79
DTSTAMP:20260420T081644Z
SUMMARY:舞ふれんど　イベント
LOCATION:
ORGANIZER;CN=たま:MAILTO:s-t@umin.net
DTSTART;TZID=Asia/Tokyo:20200721T110000
DTEND;TZID=Asia/Tokyo:20200721T170000
X-ALT-DESC;FMTTYPE=TEXT/HTML:アジア服・雑貨　さばいでぃ　姉
 妹のこっとん 占いコーナーとして出店します。
CATEGORIES:イベント
URL;VALUE=URI:https://tama.blue/?mc-events=%e8%88%9e%e3%81%b5%e3%82%8c%e3%8
 2%93%e3%81%a9%e3%80%80%e3%82%a4%e3%83%99%e3%83%b3%e3%83%88-3
METHOD:PUBLISH
END:VEVENT
END:VCALENDAR