BEGIN:VCALENDAR
VERSION:2.0
PRODID:spatie/icalendar-generator
DESCRIPTION:ナースが旭川で占う　手相とタロットの「占〜
 せん〜」のイベント
X-WR-CALDESC:ナースが旭川で占う　手相とタロットの「占
 〜せん〜」のイベント
REFRESH-INTERVAL;VALUE=DURATION:PT1440M
X-PUBLISHED-TTL:PT1440M
BEGIN:VTIMEZONE
TZID:Asia/Tokyo
BEGIN:STANDARD
DTSTART:20240416T100000Z
TZOFFSETFROM:+0900
TZOFFSETTO:+0900
END:STANDARD
END:VTIMEZONE
BEGIN:VTIMEZONE
TZID:UTC
BEGIN:STANDARD
DTSTART:20250724T095510Z
TZOFFSETFROM:+0000
TZOFFSETTO:+0000
END:STANDARD
END:VTIMEZONE
BEGIN:VEVENT
UID:414-394
DTSTAMP:20260420T095510Z
SUMMARY:銀座通商店街　みんなのカフェ　イベント
LOCATION:みんなのカフェ銀座（旭川市） ３条通１５丁目
 ８１９−１  旭川市 北海道 070-0033
ORGANIZER;CN=たま:MAILTO:s-t@umin.net
DTSTART;TZID=Asia/Tokyo:20250111T100000
DTEND;TZID=Asia/Tokyo:20250111T160000
X-ALT-DESC;FMTTYPE=TEXT/HTML:銀座通商店街　みんなのカフェ　
 でのイベントです
CATEGORIES:イベント
URL;VALUE=URI:https://tama.blue/?mc-events=%e9%8a%80%e5%ba%a7%e9%80%9a%e5%9
 5%86%e5%ba%97%e8%a1%97%e3%80%80%e3%81%bf%e3%82%93%e3%81%aa%e3%81%ae%e3%82%
 ab%e3%83%95%e3%82%a7%e3%80%80%e3%82%a4%e3%83%99%e3%83%b3%e3%83%88
METHOD:PUBLISH
END:VEVENT
END:VCALENDAR