BEGIN:VCALENDAR
VERSION:2.0
PRODID:spatie/icalendar-generator
DESCRIPTION:ナースが旭川で占う　手相とタロットの「占〜
 せん〜」のイベント
X-WR-CALDESC:ナースが旭川で占う　手相とタロットの「占
 〜せん〜」のイベント
REFRESH-INTERVAL;VALUE=DURATION:PT1440M
X-PUBLISHED-TTL:PT1440M
BEGIN:VTIMEZONE
TZID:Asia/Tokyo
BEGIN:STANDARD
DTSTART:20201103T100000Z
TZOFFSETFROM:+0900
TZOFFSETTO:+0900
END:STANDARD
END:VTIMEZONE
BEGIN:VTIMEZONE
TZID:UTC
BEGIN:STANDARD
DTSTART:20250724T082832Z
TZOFFSETFROM:+0000
TZOFFSETTO:+0000
END:STANDARD
END:VTIMEZONE
BEGIN:VEVENT
UID:155-146
DTSTAMP:20260420T082832Z
SUMMARY:cafe Ocelot お客様感謝デー
LOCATION:cafe Ocelot（カフェ　オセロット） 豊岡5条6丁目5-11
   旭川市 北海道 078-8235
ORGANIZER;CN=たま:MAILTO:s-t@umin.net
DTSTART;TZID=Asia/Tokyo:20210731T100000
DTEND;TZID=Asia/Tokyo:20210731T170000
X-ALT-DESC;FMTTYPE=TEXT/HTML:cafe Ocelot（カフェ　オセロット）
 お客様感謝デーです 7/31土曜日　10:00-17:00まで占い&amp;hellip
 \;
CATEGORIES:イベント
URL;VALUE=URI:https://tama.blue/?mc-events=cafe-ocelot-%e3%81%8a%e5%ae%a2%e
 6%a7%98%e6%84%9f%e8%ac%9d%e3%83%87%e3%83%bc
METHOD:PUBLISH
END:VEVENT
END:VCALENDAR